BEGIN:VCALENDAR
VERSION:2.0
PRODID:-//wp-events-plugin.com//6.6.4.4//EN
TZID:Europe/Berlin
X-WR-TIMEZONE:Europe/Berlin
BEGIN:VEVENT
UID:752@viktoria-loevenich.de
DTSTART;TZID=Europe/Berlin;VALUE=DATE:20240803
DTEND;TZID=Europe/Berlin;VALUE=DATE:20240804
DTSTAMP:20240304T210643Z
URL:https://www.viktoria-loevenich.de/events/rtv-83-lohmar-e-v-2/
SUMMARY:RTV 83 Lohmar e.V.
DESCRIPTION:
CATEGORIES:RTF
LOCATION:Jabachhalle\, Donrather Dreieck 1\, Lohmar\, 53797\, Deutschland
GEO:50.846925;7.223088
X-APPLE-STRUCTURED-LOCATION;VALUE=URI;X-ADDRESS=Donrather Dreieck 1\, Lohma
 r\, 53797\, Deutschland;X-APPLE-RADIUS=100;X-TITLE=Jabachhalle:geo:50.8469
 25,7.223088
END:VEVENT
BEGIN:VTIMEZONE
TZID:Europe/Berlin
X-LIC-LOCATION:Europe/Berlin
BEGIN:DAYLIGHT
DTSTART:20240331T030000
TZOFFSETFROM:+0100
TZOFFSETTO:+0200
TZNAME:CEST
END:DAYLIGHT
END:VTIMEZONE
END:VCALENDAR