BEGIN:VCALENDAR
VERSION:2.0
PRODID:-//wp-events-plugin.com//6.6.4.4//EN
TZID:Europe/Berlin
X-WR-TIMEZONE:Europe/Berlin
BEGIN:VEVENT
UID:740@viktoria-loevenich.de
DTSTART;TZID=Europe/Berlin;VALUE=DATE:20240623
DTEND;TZID=Europe/Berlin;VALUE=DATE:20240624
DTSTAMP:20240304T205146Z
URL:https://www.viktoria-loevenich.de/events/rtc-rodenkirchen-1980-e-v-2/
SUMMARY:RTC Rodenkirchen 1980 e.V.
DESCRIPTION:
CATEGORIES:RTF
LOCATION:Diakonie Michaelshoven e. V.\, Martinsweg 9\, Köln\, 50999\, Deut
 schland
GEO:50.879627;7.005764
X-APPLE-STRUCTURED-LOCATION;VALUE=URI;X-ADDRESS=Martinsweg 9\, Köln\, 5099
 9\, Deutschland;X-APPLE-RADIUS=100;X-TITLE=Diakonie Michaelshoven e. V.:ge
 o:50.879627,7.005764
END:VEVENT
BEGIN:VTIMEZONE
TZID:Europe/Berlin
X-LIC-LOCATION:Europe/Berlin
BEGIN:DAYLIGHT
DTSTART:20240331T030000
TZOFFSETFROM:+0100
TZOFFSETTO:+0200
TZNAME:CEST
END:DAYLIGHT
END:VTIMEZONE
END:VCALENDAR