BEGIN:VCALENDAR
VERSION:2.0
PRODID:-//wp-events-plugin.com//6.6.4.4//EN
TZID:Europe/Berlin
X-WR-TIMEZONE:Europe/Berlin
BEGIN:VEVENT
UID:615@viktoria-loevenich.de
DTSTART;TZID=Europe/Berlin;VALUE=DATE:20230916
DTEND;TZID=Europe/Berlin;VALUE=DATE:20230917
DTSTAMP:20230210T180159Z
URL:https://www.viktoria-loevenich.de/events/rc-staubwolke-quadrath-74-e-v
 /
SUMMARY:RC Staubwolke Quadrath 74 e.V.
DESCRIPTION:
CATEGORIES:Gemeinsame
LOCATION:Schule am Tierpark\, Herbergerstraße 5\, Bergheim\, 50127\, Deuts
 chland
GEO:50.935603;6.683082
X-APPLE-STRUCTURED-LOCATION;VALUE=URI;X-ADDRESS=Herbergerstraße 5\, Berghe
 im\, 50127\, Deutschland;X-APPLE-RADIUS=100;X-TITLE=Schule am Tierpark:geo
 :50.935603,6.683082
END:VEVENT
BEGIN:VTIMEZONE
TZID:Europe/Berlin
X-LIC-LOCATION:Europe/Berlin
BEGIN:DAYLIGHT
DTSTART:20230326T030000
TZOFFSETFROM:+0100
TZOFFSETTO:+0200
TZNAME:CEST
END:DAYLIGHT
END:VTIMEZONE
END:VCALENDAR