BEGIN:VCALENDAR
VERSION:2.0
PRODID:-//wp-events-plugin.com//6.6.4.4//EN
TZID:Europe/Berlin
X-WR-TIMEZONE:Europe/Berlin
BEGIN:VEVENT
UID:971@viktoria-loevenich.de
DTSTART;TZID=Europe/Berlin:20260321T100000
DTEND;TZID=Europe/Berlin:20260321T140000
DTSTAMP:20251001T133743Z
URL:https://www.viktoria-loevenich.de/events/mtb-gravel-training-gastfahre
 r-sind-willkommen-2026-03-21/
SUMMARY:MTB/Gravel-Training - Gastfahrer sind willkommen
DESCRIPTION:MTB &amp\; Gravel Touren - Okt bis Mär - Samstag\, 10:00 Uhr. 
 Treffpunkt: Aachener Str. / Ecke Hamblock-Mühlen-Straße\, 50226 Königsd
 orf. Streckenführung und Gruppen nach Absprache vor Ort.
CATEGORIES:Training
LOCATION:Königsdorf Treffpunkt MTB\, Aachener Str. Ecke Hamblock-Mühlen-S
 traße\, Königsdorf\, Nordrhein-Westfalen\, 50226\, Deutschland
GEO:50.935711;6.768955
X-APPLE-STRUCTURED-LOCATION;VALUE=URI;X-ADDRESS=Aachener Str. Ecke Hamblock
 -Mühlen-Straße\, Königsdorf\, Nordrhein-Westfalen\, 50226\, Deutschland
 ;X-APPLE-RADIUS=100;X-TITLE=Königsdorf Treffpunkt MTB:geo:50.935711,6.768
 955
END:VEVENT
BEGIN:VTIMEZONE
TZID:Europe/Berlin
X-LIC-LOCATION:Europe/Berlin
BEGIN:STANDARD
DTSTART:20251026T020000
TZOFFSETFROM:+0200
TZOFFSETTO:+0100
TZNAME:CET
END:STANDARD
END:VTIMEZONE
END:VCALENDAR