BEGIN:VCALENDAR
VERSION:2.0
PRODID:-//wp-events-plugin.com//6.6.4.4//EN
TZID:Europe/Berlin
X-WR-TIMEZONE:Europe/Berlin
BEGIN:VEVENT
UID:990@viktoria-loevenich.de
DTSTART;TZID=Europe/Berlin:20260305T190000
DTEND;TZID=Europe/Berlin:20260305T210000
DTSTAMP:20251001T134730Z
URL:https://www.viktoria-loevenich.de/events/functional-fitness-2026-03-05
 /
SUMMARY:Functional Fitness
DESCRIPTION:Trainingsinhalt sind Stabi- und Rumpf-Übungen\, richtiges Aufw
 ärmen und Dehnen\, Zirkeltraining mit verschiedenen Stationen für Bauch-
 \, Rücken\, Bein- und Oberkörpermuskulatur\, Regenration mit Faszien-Rol
 le. Maximal 15 Teilnehmer nach Voranmeldung!
CATEGORIES:Training
LOCATION:Gemeinschaftsgrundschule Johanniter-Schule\, Kölner Str. 37\, 508
 59 Köln\, 50859\, 
GEO:50.947068;6.834294
X-APPLE-STRUCTURED-LOCATION;VALUE=URI;X-ADDRESS=Kölner Str. 37\, 50859 Kö
 ln\, 50859\, ;X-APPLE-RADIUS=100;X-TITLE=Gemeinschaftsgrundschule Johannit
 er-Schule:geo:50.947068,6.834294
END:VEVENT
BEGIN:VTIMEZONE
TZID:Europe/Berlin
X-LIC-LOCATION:Europe/Berlin
BEGIN:STANDARD
DTSTART:20251026T020000
TZOFFSETFROM:+0200
TZOFFSETTO:+0100
TZNAME:CET
END:STANDARD
END:VTIMEZONE
END:VCALENDAR